BEGIN:VCALENDAR
VERSION:2.0
PRODID:-//Essential Maman - ECPv6.15.18//NONSGML v1.0//EN
CALSCALE:GREGORIAN
METHOD:PUBLISH
X-ORIGINAL-URL:https://essentialmaman.com
X-WR-CALDESC:Events for Essential Maman
REFRESH-INTERVAL;VALUE=DURATION:PT1H
X-Robots-Tag:noindex
X-PUBLISHED-TTL:PT1H
BEGIN:VTIMEZONE
TZID:America/Toronto
BEGIN:DAYLIGHT
TZOFFSETFROM:-0500
TZOFFSETTO:-0400
TZNAME:EDT
DTSTART:20240310T070000
END:DAYLIGHT
BEGIN:STANDARD
TZOFFSETFROM:-0400
TZOFFSETTO:-0500
TZNAME:EST
DTSTART:20241103T060000
END:STANDARD
BEGIN:DAYLIGHT
TZOFFSETFROM:-0500
TZOFFSETTO:-0400
TZNAME:EDT
DTSTART:20250309T070000
END:DAYLIGHT
BEGIN:STANDARD
TZOFFSETFROM:-0400
TZOFFSETTO:-0500
TZNAME:EST
DTSTART:20251102T060000
END:STANDARD
BEGIN:DAYLIGHT
TZOFFSETFROM:-0500
TZOFFSETTO:-0400
TZNAME:EDT
DTSTART:20260308T070000
END:DAYLIGHT
BEGIN:STANDARD
TZOFFSETFROM:-0400
TZOFFSETTO:-0500
TZNAME:EST
DTSTART:20261101T060000
END:STANDARD
END:VTIMEZONE
BEGIN:VEVENT
DTSTART;TZID=America/Toronto:20250807T203000
DTEND;TZID=America/Toronto:20250807T213000
DTSTAMP:20260423T121326
CREATED:20250806T135645Z
LAST-MODIFIED:20250806T135807Z
UID:5878-1754598600-1754602200@essentialmaman.com
SUMMARY:Wellness Made Simple
DESCRIPTION:Wellness Made Simple Workshop\nYour journey to better health starts here… so much more than just oils!
URL:https://essentialmaman.com/classes/wellness-made-simple/
LOCATION:Quebec
END:VEVENT
END:VCALENDAR