BEGIN:VCALENDAR
VERSION:2.0
PRODID:-//Essential Maman - ECPv6.15.18//NONSGML v1.0//EN
CALSCALE:GREGORIAN
METHOD:PUBLISH
X-ORIGINAL-URL:https://essentialmaman.com
X-WR-CALDESC:Events for Essential Maman
REFRESH-INTERVAL;VALUE=DURATION:PT1H
X-Robots-Tag:noindex
X-PUBLISHED-TTL:PT1H
BEGIN:VTIMEZONE
TZID:America/Toronto
BEGIN:DAYLIGHT
TZOFFSETFROM:-0500
TZOFFSETTO:-0400
TZNAME:EDT
DTSTART:20240310T070000
END:DAYLIGHT
BEGIN:STANDARD
TZOFFSETFROM:-0400
TZOFFSETTO:-0500
TZNAME:EST
DTSTART:20241103T060000
END:STANDARD
BEGIN:DAYLIGHT
TZOFFSETFROM:-0500
TZOFFSETTO:-0400
TZNAME:EDT
DTSTART:20250309T070000
END:DAYLIGHT
BEGIN:STANDARD
TZOFFSETFROM:-0400
TZOFFSETTO:-0500
TZNAME:EST
DTSTART:20251102T060000
END:STANDARD
BEGIN:DAYLIGHT
TZOFFSETFROM:-0500
TZOFFSETTO:-0400
TZNAME:EDT
DTSTART:20260308T070000
END:DAYLIGHT
BEGIN:STANDARD
TZOFFSETFROM:-0400
TZOFFSETTO:-0500
TZNAME:EST
DTSTART:20261101T060000
END:STANDARD
END:VTIMEZONE
BEGIN:VEVENT
DTSTART;TZID=America/Toronto:20250924T193000
DTEND;TZID=America/Toronto:20250924T200000
DTSTAMP:20260423T103835
CREATED:20250918T041811Z
LAST-MODIFIED:20250918T133056Z
UID:5913-1758742200-1758744000@essentialmaman.com
SUMMARY:Créer un revenu en santé naturelle avec doTERRA
DESCRIPTION:Que tu veuilles juste arrondir les fins de mois ou créer un revenu à long terme\, l’opportunité doTERRA t’offre : \n-Des produits scientifiquement validés qui font vraiment une différence \n-Une communauté d’entraide et de croissance -Un modèle simple pour transformer ton impact en revenu \n-Pas de pression\, juste un regard honnête sur ce qui est possible. \nAvec doTERRA\, tu choisis ton rythme et tu fixes tes objectifs. C’est un modèle flexible\, durable et aligné avec tes valeurs — idéal pour bâtir un revenu qui soutient ta vie plutôt que l’inverse. \nRejoins la communauté doTERRA\, prends soin de ta santé et inspire les autres à en faire autant. \nVotre presentatrice: Véronique Golloher – maman de 4 et top leader doTERRA – mentore les femmes depuis 10+ ans pour bâtir un revenu aligné avec leurs valeurs\, développer leur leadership et créer une communauté florissante. \nPour s’enregistrer: Lien zoom
URL:https://essentialmaman.com/classes/creer-un-revenu-en-sante-naturelle-avec-doterra/
LOCATION:Quebec
END:VEVENT
END:VCALENDAR