BEGIN:VCALENDAR
VERSION:2.0
PRODID:-//Essential Maman - ECPv6.15.18//NONSGML v1.0//EN
CALSCALE:GREGORIAN
METHOD:PUBLISH
X-ORIGINAL-URL:https://essentialmaman.com
X-WR-CALDESC:Events for Essential Maman
REFRESH-INTERVAL;VALUE=DURATION:PT1H
X-Robots-Tag:noindex
X-PUBLISHED-TTL:PT1H
BEGIN:VTIMEZONE
TZID:America/Toronto
BEGIN:DAYLIGHT
TZOFFSETFROM:-0500
TZOFFSETTO:-0400
TZNAME:EDT
DTSTART:20240310T070000
END:DAYLIGHT
BEGIN:STANDARD
TZOFFSETFROM:-0400
TZOFFSETTO:-0500
TZNAME:EST
DTSTART:20241103T060000
END:STANDARD
BEGIN:DAYLIGHT
TZOFFSETFROM:-0500
TZOFFSETTO:-0400
TZNAME:EDT
DTSTART:20250309T070000
END:DAYLIGHT
BEGIN:STANDARD
TZOFFSETFROM:-0400
TZOFFSETTO:-0500
TZNAME:EST
DTSTART:20251102T060000
END:STANDARD
BEGIN:DAYLIGHT
TZOFFSETFROM:-0500
TZOFFSETTO:-0400
TZNAME:EDT
DTSTART:20260308T070000
END:DAYLIGHT
BEGIN:STANDARD
TZOFFSETFROM:-0400
TZOFFSETTO:-0500
TZNAME:EST
DTSTART:20261101T060000
END:STANDARD
END:VTIMEZONE
BEGIN:VEVENT
DTSTART;TZID=America/Toronto:20250925T190000
DTEND;TZID=America/Toronto:20250925T200000
DTSTAMP:20260423T103835
CREATED:20250906T204811Z
LAST-MODIFIED:20250912T010917Z
UID:5902-1758826800-1758830400@essentialmaman.com
SUMMARY:Wellness Studio: Hormone Health edition (IN PERSON)
DESCRIPTION:Wellness Studio: Essential Oils\, Hormones & Hands-On DIYs\nJoin me at my home for a cozy\, interactive evening all about women’s health and hormones. \nThis is not your average wellness workshop. You’ll get to smell\, try\, and experience a wide variety of pure essential oils while learning how they can support your body naturally. \nWhat to expect: \n✨ What to expect:A 20-minute teaching where I’ll share the simple tips and tools I personally use to balance hormones\, boost energy\, and bring more calm into my days. \n✨ What to expect:A chance to create your own natural self-care products to take home\, including: \n-Soothing bath salts \n-A SuperWoman roller blend for hormone balance \n-A pillow spray for restful sleep \n✨ Why come?Because your health shouldn’t feel overwhelming or complicated. This is your chance to discover natural solutions for hormone balance\, stress relief\, and everyday wellness—while having fun\, connecting\, and making products you’ll love to use. \n👭 Bring a friend\, breathe in the aromas\, and leave with both knowledge and goodies that will support you long after the evening ends. \nCost: $10 at the door \n(location provided upon registration- In Alliston\, ON)
URL:https://essentialmaman.com/classes/wellness-studio-in-person/
LOCATION:Quebec
END:VEVENT
END:VCALENDAR