BEGIN:VCALENDAR
VERSION:2.0
PRODID:-//Essential Maman - ECPv6.15.18//NONSGML v1.0//EN
CALSCALE:GREGORIAN
METHOD:PUBLISH
X-ORIGINAL-URL:https://essentialmaman.com
X-WR-CALDESC:Events for Essential Maman
REFRESH-INTERVAL;VALUE=DURATION:PT1H
X-Robots-Tag:noindex
X-PUBLISHED-TTL:PT1H
BEGIN:VTIMEZONE
TZID:America/Toronto
BEGIN:DAYLIGHT
TZOFFSETFROM:-0500
TZOFFSETTO:-0400
TZNAME:EDT
DTSTART:20240310T070000
END:DAYLIGHT
BEGIN:STANDARD
TZOFFSETFROM:-0400
TZOFFSETTO:-0500
TZNAME:EST
DTSTART:20241103T060000
END:STANDARD
BEGIN:DAYLIGHT
TZOFFSETFROM:-0500
TZOFFSETTO:-0400
TZNAME:EDT
DTSTART:20250309T070000
END:DAYLIGHT
BEGIN:STANDARD
TZOFFSETFROM:-0400
TZOFFSETTO:-0500
TZNAME:EST
DTSTART:20251102T060000
END:STANDARD
BEGIN:DAYLIGHT
TZOFFSETFROM:-0500
TZOFFSETTO:-0400
TZNAME:EDT
DTSTART:20260308T070000
END:DAYLIGHT
BEGIN:STANDARD
TZOFFSETFROM:-0400
TZOFFSETTO:-0500
TZNAME:EST
DTSTART:20261101T060000
END:STANDARD
END:VTIMEZONE
BEGIN:VEVENT
DTSTART;TZID=America/Toronto:20251016T200000
DTEND;TZID=America/Toronto:20251016T203000
DTSTAMP:20260423T084447
CREATED:20251014T211932Z
LAST-MODIFIED:20251015T000847Z
UID:5943-1760644800-1760646600@essentialmaman.com
SUMMARY:Essential Oils Made Simple
DESCRIPTION:Ready to feel more empowered in your health — without overcomplicating things? \nIn this free 30-minute online class\, I’ll walk you through how to use essential oils in simple\, everyday ways to support your body\, your mood\, your sleep\, your immunity\, your hormones — and even your home. \nYou’ll learn: \n– What essential oils actually are and how they work \n– Why quality matters (and why I trust doTERRA) \n– The top oils to start with — and how to use them safely and confidently \n– How to support emotional balance\, energy\, sleep\, pain\, hormones\, and immune health \n– How to reduce toxins in your home with natural swaps that actually work \n– How to get your oils at 25% off (because smart wellness is also smart budgeting) \nThis class is perfect if you’re curious about oils but not sure where to start — or if you’ve dabbled and want to feel more confident using them. \nREGISTER HERE
URL:https://essentialmaman.com/classes/essential-oils-made-simple/
LOCATION:Online
END:VEVENT
END:VCALENDAR