BEGIN:VCALENDAR
VERSION:2.0
PRODID:-//Essential Maman - ECPv6.15.18//NONSGML v1.0//EN
CALSCALE:GREGORIAN
METHOD:PUBLISH
X-WR-CALNAME:Essential Maman
X-ORIGINAL-URL:https://essentialmaman.com
X-WR-CALDESC:Events for Essential Maman
REFRESH-INTERVAL;VALUE=DURATION:PT1H
X-Robots-Tag:noindex
X-PUBLISHED-TTL:PT1H
BEGIN:VTIMEZONE
TZID:America/Toronto
BEGIN:DAYLIGHT
TZOFFSETFROM:-0500
TZOFFSETTO:-0400
TZNAME:EDT
DTSTART:20240310T070000
END:DAYLIGHT
BEGIN:STANDARD
TZOFFSETFROM:-0400
TZOFFSETTO:-0500
TZNAME:EST
DTSTART:20241103T060000
END:STANDARD
BEGIN:DAYLIGHT
TZOFFSETFROM:-0500
TZOFFSETTO:-0400
TZNAME:EDT
DTSTART:20250309T070000
END:DAYLIGHT
BEGIN:STANDARD
TZOFFSETFROM:-0400
TZOFFSETTO:-0500
TZNAME:EST
DTSTART:20251102T060000
END:STANDARD
BEGIN:DAYLIGHT
TZOFFSETFROM:-0500
TZOFFSETTO:-0400
TZNAME:EDT
DTSTART:20260308T070000
END:DAYLIGHT
BEGIN:STANDARD
TZOFFSETFROM:-0400
TZOFFSETTO:-0500
TZNAME:EST
DTSTART:20261101T060000
END:STANDARD
END:VTIMEZONE
BEGIN:VEVENT
DTSTART;TZID=America/Toronto:20251017T183000
DTEND;TZID=America/Toronto:20251017T210000
DTSTAMP:20260423T083934
CREATED:20250916T213006Z
LAST-MODIFIED:20251004T232018Z
UID:5910-1760725800-1760734800@essentialmaman.com
SUMMARY:The Midlife Hormone reset - Ontario-wide event
DESCRIPTION:Hot flashes and hormonal havoc? \nGet real answers for the burnous\, brain fog and the feeling of not being yourself. \nYou are not alone \nWe’ll explore what’s really going on in your body during perimenopause\, menopause and post menopause. \nWe’ll bust some common myths and share natural strategies to support better rest\, digestion and reproductive health. \nIt will be followed by a hands on expo\, a supportive place to ask questions\, connect and leave with tools you can use immidiately \nNo fluff\, no judgement\, just answers. \nREGISTER HERE
URL:https://essentialmaman.com/classes/the-midlife-hormone-reset-ontario-wide-event/
LOCATION:International Centre\, 6900 Airport road\, Missisauga\, ON\, L4V1N2\, Canada
END:VEVENT
END:VCALENDAR