BEGIN:VCALENDAR
VERSION:2.0
PRODID:-//Essential Maman - ECPv6.15.18//NONSGML v1.0//EN
CALSCALE:GREGORIAN
METHOD:PUBLISH
X-ORIGINAL-URL:https://essentialmaman.com
X-WR-CALDESC:Events for Essential Maman
REFRESH-INTERVAL;VALUE=DURATION:PT1H
X-Robots-Tag:noindex
X-PUBLISHED-TTL:PT1H
BEGIN:VTIMEZONE
TZID:America/Toronto
BEGIN:DAYLIGHT
TZOFFSETFROM:-0500
TZOFFSETTO:-0400
TZNAME:EDT
DTSTART:20240310T070000
END:DAYLIGHT
BEGIN:STANDARD
TZOFFSETFROM:-0400
TZOFFSETTO:-0500
TZNAME:EST
DTSTART:20241103T060000
END:STANDARD
BEGIN:DAYLIGHT
TZOFFSETFROM:-0500
TZOFFSETTO:-0400
TZNAME:EDT
DTSTART:20250309T070000
END:DAYLIGHT
BEGIN:STANDARD
TZOFFSETFROM:-0400
TZOFFSETTO:-0500
TZNAME:EST
DTSTART:20251102T060000
END:STANDARD
BEGIN:DAYLIGHT
TZOFFSETFROM:-0500
TZOFFSETTO:-0400
TZNAME:EDT
DTSTART:20260308T070000
END:DAYLIGHT
BEGIN:STANDARD
TZOFFSETFROM:-0400
TZOFFSETTO:-0500
TZNAME:EST
DTSTART:20261101T060000
END:STANDARD
END:VTIMEZONE
BEGIN:VEVENT
DTSTART;TZID=America/Toronto:20251021T193000
DTEND;TZID=America/Toronto:20251021T200000
DTSTAMP:20260423T084412
CREATED:20250929T181500Z
LAST-MODIFIED:20250929T181500Z
UID:5931-1761075000-1761076800@essentialmaman.com
SUMMARY:Hormones au Naturel - Bien vivre le grand tournant de la quarantaine
DESCRIPTION:Vous sentez que votre énergie\, votre peau\, votre sommeil ou votre humeur ne sont plus les mêmes qu’avant? \nCette mini-classe de 30 minutes est pour vous! Dans cet atelier interactif sur Zoom\, vous allez découvrir : \n-Les changements hormonaux clés de la quarantaine et pourquoi ils affectent votre énergie\, votre sommeil et votre poids \n-Les habitudes simples qui aident à retrouver un équilibre naturel (sans se sentir dépassée) \n-Les solutions doTERRA que nous utilisons chaque jour pour soutenir nos hormones\, calmer le stress et booster l’énergie \nVous repartirez avec des outils concrets pour prendre soin de votre corps et mieux vivre cette belle transition — avec clarté et vitalité. \nVos presentatrices: Geneviève Chartrand: +Maman de 3 garçons\, ex-enseignante devenue stratège en leadership et vitalité +Accompagne les femmes depuis plus de 6 ans à retrouver énergie\, équilibre et liberté grâce à un mode de vie naturel avec doTERRA +Leader reconnue sur le marché canadien\, appréciée pour son approche joyeuse et humaine +Passionnée de danse\, de voyages et de connexion authentique Sa vision : aider les femmes à se prioriser et créer une vie où elles se sentent vivantes\, puissantes et alignées \nMarie-Hélène Carrier: +Maman de 2 ados\, entrepreneure\, coach et leader d’équipe aux côtés de son conjoint depuis 26 ans +Plus de 15 ans d’expérience comme nutritionniste spécialisée en digestion et perte de poids\, puis comme guide en santé naturelle intégrant les huiles essentielles +Aide les femmes à retrouver énergie\, vitalité et confiance grâce à des approches holistiques et personnalisées +Depuis 3 ans\, utilise le Human Design et les constellations systémiques pour élargir la conscience\, libérer les mémoires transgénérationnelles et développer une identité forte et alignée \nPour vous enregistrer: Cliquez ICI
URL:https://essentialmaman.com/classes/hormones-au-naturel-bien-vivre-le-grand-tournant-de-la-quarantaine/
LOCATION:Online
END:VEVENT
END:VCALENDAR