BEGIN:VCALENDAR
VERSION:2.0
PRODID:-//Essential Maman - ECPv6.15.18//NONSGML v1.0//EN
CALSCALE:GREGORIAN
METHOD:PUBLISH
X-ORIGINAL-URL:https://essentialmaman.com
X-WR-CALDESC:Events for Essential Maman
REFRESH-INTERVAL;VALUE=DURATION:PT1H
X-Robots-Tag:noindex
X-PUBLISHED-TTL:PT1H
BEGIN:VTIMEZONE
TZID:America/Toronto
BEGIN:DAYLIGHT
TZOFFSETFROM:-0500
TZOFFSETTO:-0400
TZNAME:EDT
DTSTART:20240310T070000
END:DAYLIGHT
BEGIN:STANDARD
TZOFFSETFROM:-0400
TZOFFSETTO:-0500
TZNAME:EST
DTSTART:20241103T060000
END:STANDARD
BEGIN:DAYLIGHT
TZOFFSETFROM:-0500
TZOFFSETTO:-0400
TZNAME:EDT
DTSTART:20250309T070000
END:DAYLIGHT
BEGIN:STANDARD
TZOFFSETFROM:-0400
TZOFFSETTO:-0500
TZNAME:EST
DTSTART:20251102T060000
END:STANDARD
BEGIN:DAYLIGHT
TZOFFSETFROM:-0500
TZOFFSETTO:-0400
TZNAME:EDT
DTSTART:20260308T070000
END:DAYLIGHT
BEGIN:STANDARD
TZOFFSETFROM:-0400
TZOFFSETTO:-0500
TZNAME:EST
DTSTART:20261101T060000
END:STANDARD
END:VTIMEZONE
BEGIN:VEVENT
DTSTART;TZID=America/Toronto:20251204T190000
DTEND;TZID=America/Toronto:20251204T193000
DTSTAMP:20260421T062420
CREATED:20251201T164907Z
LAST-MODIFIED:20251201T164907Z
UID:6015-1764874800-1764876600@essentialmaman.com
SUMMARY:The Essential Oils Every Parent Should Know
DESCRIPTION:Raising little ones means dealing with all the things — big emotions\, growing pains\, sniffles\, tummy upsets\, focus struggles\, sleep issues\, immunity challenges of all kinds and everything in between. \nIf you want to have the tools to take care of all these in a more natural\, gentle and yet very effective way\, you’re in the right place. \nThis class is your simple\, confidence-boosting guide to using essential oils to support your kids in a way that actually feels doable. \nWe’ll cover: \n> how to use oils safely for your littles\, from 0 to 12yrs. \n> the best oils for sleep\, immunity\, focus and attention\, digestion\, calming nervous systems — and easing those nighttime growing pains. \n> the science behind why certain oils work so well for tiny bodies \n> easy dilution tips you’ll easily remember \n> simple routines you can start the same day \nYou’ll leave knowing what to use\, when to use it\, and how to keep things safe and effective. \nMy moto: keep it simple!  So you will leave with: No overwhelm\, just practical tools for everyday moments. \nPerfect for anyone caring for little humans. \nREGISTER HERE
URL:https://essentialmaman.com/classes/the-essential-oils-every-parent-should-know/
LOCATION:Online
END:VEVENT
END:VCALENDAR