BEGIN:VCALENDAR
VERSION:2.0
PRODID:-//Essential Maman - ECPv6.15.18//NONSGML v1.0//EN
CALSCALE:GREGORIAN
METHOD:PUBLISH
X-WR-CALNAME:Essential Maman
X-ORIGINAL-URL:https://essentialmaman.com
X-WR-CALDESC:Events for Essential Maman
REFRESH-INTERVAL;VALUE=DURATION:PT1H
X-Robots-Tag:noindex
X-PUBLISHED-TTL:PT1H
BEGIN:VTIMEZONE
TZID:America/Toronto
BEGIN:DAYLIGHT
TZOFFSETFROM:-0500
TZOFFSETTO:-0400
TZNAME:EDT
DTSTART:20250309T070000
END:DAYLIGHT
BEGIN:STANDARD
TZOFFSETFROM:-0400
TZOFFSETTO:-0500
TZNAME:EST
DTSTART:20251102T060000
END:STANDARD
BEGIN:DAYLIGHT
TZOFFSETFROM:-0500
TZOFFSETTO:-0400
TZNAME:EDT
DTSTART:20260308T070000
END:DAYLIGHT
BEGIN:STANDARD
TZOFFSETFROM:-0400
TZOFFSETTO:-0500
TZNAME:EST
DTSTART:20261101T060000
END:STANDARD
BEGIN:DAYLIGHT
TZOFFSETFROM:-0500
TZOFFSETTO:-0400
TZNAME:EDT
DTSTART:20270314T070000
END:DAYLIGHT
BEGIN:STANDARD
TZOFFSETFROM:-0400
TZOFFSETTO:-0500
TZNAME:EST
DTSTART:20271107T060000
END:STANDARD
END:VTIMEZONE
BEGIN:VEVENT
DTSTART;TZID=America/Toronto:20260115T190000
DTEND;TZID=America/Toronto:20260115T193000
DTSTAMP:20260421T043401
CREATED:20260107T021229Z
LAST-MODIFIED:20260107T021229Z
UID:6023-1768503600-1768505400@essentialmaman.com
SUMMARY:The Power of Essential Oils
DESCRIPTION:For many people\, essential oils are just for headaches or making the house smell nice\, without toxic chemicals. \nAnd yes… that matters. But the truth is\, essential oils are capable of far more than most people realize. \nIn this class\, we’ll go beyond the surface and talk about what essential oils can actually do when they are pure\, used properly\, and integrated consistently into daily life. \nWe’ll explore: \n-how essential oils interact with the nervous system\, immunity\, and inflammation \n-their role in respiratory support and recovery -why they can be supportive in chronic and complex health situations \n-what makes the difference between oils that “kind of help” and oils that truly change outcomes \nI’ll also share real-life stories; moments where people experienced genuine turning points with essential oils: support for respiratory challenges\, immune resilience\, chronic pain relief\, neurological support\, and more. \nNot because oils are magic. But because they work with the body’s own intelligence. \nAn educational\, eye-opening conversation about what essential oils are truly capable of when used with intention and understanding. \nREGISTER : HERE
URL:https://essentialmaman.com/classes/the-power-of-essential-oils/
LOCATION:Online
END:VEVENT
END:VCALENDAR